BEGIN:VCALENDAR
VERSION:2.0
PRODID:-//jEvents 2.0 for Joomla//EN
CALSCALE:GREGORIAN
METHOD:PUBLISH
BEGIN:VEVENT
UID:0218adcc9e2cdabc0f3d9e64872258e5
CATEGORIES:Schulungen
CREATED:20220322T132054
SUMMARY:Erste-Hilfe-Schulung (FTH Leinroden)
URL;VALUE=URI:https://eja-aalen.de/medien/kalender/icalrepeat.detail/2022/06/04/959/-/ers
 te-hilfe-schulung-fth-leinroden?tmpl=component
DESCRIPTION: Dieser Event wurde importiert von: https://eja-aalen.de/medien/kalender/ic
 alrepeat.detail/2022/06/04/959/-/erste-hilfe-schulung-fth-leinroden?tmpl=co
 mponent (https://eja-aalen.de/medien/kalender/icalrepeat.detail/2022/06/04/
 959/-/erste-hilfe-schulung-fth-leinroden?tmpl=component)
X-ALT-DESC;FMTTYPE=text/html: <a href="https://eja-aalen.de/medien/kalender/icalrepeat.detail/2022/06/04
 /959/-/erste-hilfe-schulung-fth-leinroden?tmpl=component">Dieser Event wurd
 e importiert von: https://eja-aalen.de/medien/kalender/icalrepeat.detail/20
 22/06/04/959/-/erste-hilfe-schulung-fth-leinroden?tmpl=component</a>DTSTAMP:20260420T092445
DTSTART:20220604T090000
DTEND:20220604T170000
SEQUENCE:0
TRANSP:OPAQUE
END:VEVENT
END:VCALENDAR