BEGIN:VCALENDAR
VERSION:2.0
PRODID:-//jEvents 2.0 for Joomla//EN
CALSCALE:GREGORIAN
METHOD:PUBLISH
BEGIN:VEVENT
UID:b1352e110ca51a44eb700eb70dd80d45
CATEGORIES:Abwesenheit Verena
CREATED:20220412T082117
SUMMARY:Teilbesetzung eja
URL;VALUE=URI:https://eja-aalen.de/medien/kalender/icalrepeat.detail/2022/04/13/961/-/tei
 lbesetzung-eja?tmpl=component
DESCRIPTION: Dieser Event wurde importiert von: https://eja-aalen.de/medien/kalender/ic
 alrepeat.detail/2022/04/13/961/-/teilbesetzung-eja?tmpl=component
X-ALT-DESC;FMTTYPE=text/html: <a href="https://eja-aalen.de/medien/kalender/icalrepeat.detail/2022/04/13
 /961/-/teilbesetzung-eja?tmpl=component">Dieser Event wurde importiert von:
  https://eja-aalen.de/medien/kalender/icalrepeat.detail/2022/04/13/961/-/te
 ilbesetzung-eja?tmpl=component</a>DTSTAMP:20260422T143230
DTSTART;VALUE=DATE:20220413
DTEND;VALUE=DATE:20220423
SEQUENCE:0
TRANSP:OPAQUE
END:VEVENT
END:VCALENDAR