BEGIN:VCALENDAR
VERSION:2.0
PRODID:-//jEvents 2.0 for Joomla//EN
CALSCALE:GREGORIAN
METHOD:PUBLISH
BEGIN:VEVENT
UID:d8f8cfd0e9c4b500b1c01be8efe5caba
CATEGORIES:Gremien
CREATED:20220715T094009
SUMMARY:BAK Sitzung
LOCATION:ev. Gemeindehaus Oberkochen
URL;VALUE=URI:https://eja-aalen.de/medien/kalender/icalrepeat.detail/2022/07/18/966/-/bak
 -sitzung?tmpl=component
DESCRIPTION:Bezirksarbeitskreis (BAK) tagt in einer öffentlichen Sitzung.\nHast du Inte
 resse daran, dabei zu sein, möchtest du dich und deine Belange gerne einbri
 ngen?\nDann schreib unsere Vorsitzenden an: Diese E-Mail-Adresse ist vor Sp
 ambots geschützt! Zur Anzeige muss JavaScript eingeschaltet sein!
				docum
 ent.getElementById('cloakd5064bb3f6e79c1d0487d02da04adeb8').innerHTML = '';
 
				var prefix = '&#109;a' + 'i&#108;' + '&#116;o';
				var path = 'hr' + 
 'ef' + '=';
				var addyd5064bb3f6e79c1d0487d02da04adeb8 = 'v&#111;rs&#105;
 tz&#101;nd&#101;' + '&#64;';
				addyd5064bb3f6e79c1d0487d02da04adeb8 = add
 yd5064bb3f6e79c1d0487d02da04adeb8 + '&#101;j&#97;-&#97;&#97;l&#101;n' + '&#
 46;' + 'd&#101;';
				var addy_textd5064bb3f6e79c1d0487d02da04adeb8 = 'v&#1
 11;rs&#105;tz&#101;nd&#101;' + '&#64;' + '&#101;j&#97;-&#97;&#97;l&#101;n' 
 + '&#46;' + 'd&#101;';document.getElementById('cloakd5064bb3f6e79c1d0487d02
 da04adeb8').innerHTML += '<a ' + path + '\'' + prefix + ':' + addyd5064bb3f
 6e79c1d0487d02da04adeb8 + '\'>'+addy_textd5064bb3f6e79c1d0487d02da04adeb8+'
 ';
		\nUnd reiche sehr gerne Anträge ein, komm dazu - wir freuen uns über B
 esuch und einen regen Austausch.\n Dieser Event wurde importiert von: https
 ://eja-aalen.de/medien/kalender/icalrepeat.detail/2022/07/18/966/-/bak-sitz
 ung?tmpl=component
X-ALT-DESC;FMTTYPE=text/html:<p>Bezirksarbeitskreis (BAK) tagt in einer &ouml;ffentlichen Sitzung.</p><p
 >Hast du Interesse daran, dabei zu sein, m&ouml;chtest du dich und deine Be
 lange gerne einbringen?</p><p>Dann schreib unsere Vorsitzenden an: <span id
 ="cloakd5064bb3f6e79c1d0487d02da04adeb8">Diese E-Mail-Adresse ist vor Spamb
 ots geschützt! Zur Anzeige muss JavaScript eingeschaltet sein!</span><scrip
 t type='text/javascript'>
				document.getElementById('cloakd5064bb3f6e79c1
 d0487d02da04adeb8').innerHTML = '';
				var prefix = '&#109;a' + 'i&#108;' 
 + '&#116;o';
				var path = 'hr' + 'ef' + '=';
				var addyd5064bb3f6e79c1d
 0487d02da04adeb8 = 'v&#111;rs&#105;tz&#101;nd&#101;' + '&#64;';
				addyd50
 64bb3f6e79c1d0487d02da04adeb8 = addyd5064bb3f6e79c1d0487d02da04adeb8 + '&#1
 01;j&#97;-&#97;&#97;l&#101;n' + '&#46;' + 'd&#101;';
				var addy_textd5064
 bb3f6e79c1d0487d02da04adeb8 = 'v&#111;rs&#105;tz&#101;nd&#101;' + '&#64;' +
  '&#101;j&#97;-&#97;&#97;l&#101;n' + '&#46;' + 'd&#101;';document.getElemen
 tById('cloakd5064bb3f6e79c1d0487d02da04adeb8').innerHTML += '<a ' + path + 
 '\'' + prefix + ':' + addyd5064bb3f6e79c1d0487d02da04adeb8 + '\'>'+addy_tex
 td5064bb3f6e79c1d0487d02da04adeb8+'<\/a>';
		</script></p><p>Und reiche seh
 r gerne Antr&auml;ge ein, komm dazu - wir freuen uns &uuml;ber Besuch und e
 inen regen Austausch.</p> <a href="https://eja-aalen.de/medien/kalender/ica
 lrepeat.detail/2022/07/18/966/-/bak-sitzung?tmpl=component">Dieser Event wu
 rde importiert von: https://eja-aalen.de/medien/kalender/icalrepeat.detail/
 2022/07/18/966/-/bak-sitzung?tmpl=component</a>CONTACT:Diese E-Mail-Adresse ist vor Spambots geschützt! Zur Anzeige muss JavaScript eingeschaltet sein!
				document.getElementById('cloakb6c532f4868fec8c35c0f3a7740ac5c5').innerHTML = '';
				var prefix = '&#109;a' + 'i&#108;' + '&#116;o';
				var path = 'hr' + 'ef' + '=';
				var addyb6c532f4868fec8c35c0f3a7740ac5c5 = 'v&#111;rs&#105;tz&#101;nd&#101;' + '&#64;';
				addyb6c532f4868fec8c35c0f3a7740ac5c5 = addyb6c532f4868fec8c35c0f3a7740ac5c5 + '&#101;j&#97;-&#97;&#97;l&#101;n' + '&#46;' + 'd&#101;';
				var addy_textb6c532f4868fec8c35c0f3a7740ac5c5 = 'v&#111;rs&#105;tz&#101;nd&#101;' + '&#64;' + '&#101;j&#97;-&#97;&#97;l&#101;n' + '&#46;' + 'd&#101;';document.getElementById('cloakb6c532f4868fec8c35c0f3a7740ac5c5').innerHTML += '<a ' + path + '\'' + prefix + ':' + addyb6c532f4868fec8c35c0f3a7740ac5c5 + '\'>'+addy_textb6c532f4868fec8c35c0f3a7740ac5c5+'';
		
DTSTAMP:20260426T005400
DTSTART:20220718T183000
SEQUENCE:0
TRANSP:OPAQUE
END:VEVENT
END:VCALENDAR