BEGIN:VCALENDAR
VERSION:2.0
PRODID:-//jEvents 2.0 for Joomla//EN
CALSCALE:GREGORIAN
METHOD:PUBLISH
BEGIN:VEVENT
UID:5266365e44de0223d3c8a96ff9f4b0ad
CATEGORIES:Gremien
CREATED:20220715T094649
SUMMARY:BAK Sitzung
LOCATION:ev. Gemeindehaus n.n.
URL;VALUE=URI:https://eja-aalen.de/medien/kalender/icalrepeat.detail/2022/11/30/968/-/bak
 -sitzung?tmpl=component
DESCRIPTION:<p>Bezirksarbeitskreis (BAK) tagt in einer &ouml;ffentlichen Sitzung.</p><p
 >Hast du Interesse daran, dabei zu sein, m&ouml;chtest du dich und deine Be
 lange gerne einbringen?</p><p>Dann schreib unsere Vorsitzenden an: <span id
 ="cloakaee8cb015452924b0ebd6362d736c72d">Diese E-Mail-Adresse ist vor Spamb
 ots geschützt! Zur Anzeige muss JavaScript eingeschaltet sein!</span><scrip
 t type='text/javascript'>
				document.getElementById('cloakaee8cb015452924
 b0ebd6362d736c72d').innerHTML = '';
				var prefix = '&#109;a' + 'i&#108;' 
 + '&#116;o';
				var path = 'hr' + 'ef' + '=';
				var addyaee8cb015452924b
 0ebd6362d736c72d = 'v&#111;rs&#105;tz&#101;nd&#101;' + '&#64;';
				addyaee
 8cb015452924b0ebd6362d736c72d = addyaee8cb015452924b0ebd6362d736c72d + '&#1
 01;j&#97;-&#97;&#97;l&#101;n' + '&#46;' + 'd&#101;';
				var addy_textaee8c
 b015452924b0ebd6362d736c72d = 'v&#111;rs&#105;tz&#101;nd&#101;' + '&#64;' +
  '&#101;j&#97;-&#97;&#97;l&#101;n' + '&#46;' + 'd&#101;';document.getElemen
 tById('cloakaee8cb015452924b0ebd6362d736c72d').innerHTML += '<a ' + path + 
 '\'' + prefix + ':' + addyaee8cb015452924b0ebd6362d736c72d + '\'>'+addy_tex
 taee8cb015452924b0ebd6362d736c72d+'<\/a>';
		</script></p><p>Und reiche seh
 r gerne Antr&auml;ge ein, komm dazu - wir freuen uns &uuml;ber Besuch und e
 inen regen Austausch.</p> <a href="https://eja-aalen.de/medien/kalender/ica
 lrepeat.detail/2022/11/30/968/-/bak-sitzung?tmpl=component">Dieser Event wu
 rde importiert von: https://eja-aalen.de/medien/kalender/icalrepeat.detail/
 2022/11/30/968/-/bak-sitzung?tmpl=component</a>CONTACT:Diese E-Mail-Adresse ist vor Spambots geschützt! Zur Anzeige muss JavaScript eingeschaltet sein!
				document.getElementById('cloakd8648612944a10ef18e287469c95216b').innerHTML = '';
				var prefix = '&#109;a' + 'i&#108;' + '&#116;o';
				var path = 'hr' + 'ef' + '=';
				var addyd8648612944a10ef18e287469c95216b = 'v&#111;rs&#105;tz&#101;nd&#101;' + '&#64;';
				addyd8648612944a10ef18e287469c95216b = addyd8648612944a10ef18e287469c95216b + '&#101;j&#97;-&#97;&#97;l&#101;n' + '&#46;' + 'd&#101;';
				var addy_textd8648612944a10ef18e287469c95216b = 'v&#111;rs&#105;tz&#101;nd&#101;' + '&#64;' + '&#101;j&#97;-&#97;&#97;l&#101;n' + '&#46;' + 'd&#101;';document.getElementById('cloakd8648612944a10ef18e287469c95216b').innerHTML += '<a ' + path + '\'' + prefix + ':' + addyd8648612944a10ef18e287469c95216b + '\'>'+addy_textd8648612944a10ef18e287469c95216b+'';
		
DTSTAMP:20260423T200146
DTSTART:20221130T183000
SEQUENCE:0
TRANSP:OPAQUE
END:VEVENT
END:VCALENDAR