BEGIN:VCALENDAR
VERSION:2.0
PRODID:-//jEvents 2.0 for Joomla//EN
CALSCALE:GREGORIAN
METHOD:PUBLISH
BEGIN:VEVENT
UID:b8c5bd16a8a06487be9db69775998b03
CATEGORIES:Gremien
CREATED:20220715T094951
SUMMARY:BAK Sitzung
LOCATION:ev. Gemeindehaus n.n.
URL;VALUE=URI:https://eja-aalen.de/medien/kalender/icalrepeat.detail/2023/01/19/969/-/bak
 -sitzung?tmpl=component
DESCRIPTION:<p>Bezirksarbeitskreis (BAK) tagt in einer &ouml;ffentlichen Sitzung.</p><p
 >Hast du Interesse daran, dabei zu sein, m&ouml;chtest du dich und deine Be
 lange gerne einbringen?</p><p>Dann schreib unsere Vorsitzenden an: <span id
 ="cloak87b5c3b855ce7a0488815345ec59fc9d">Diese E-Mail-Adresse ist vor Spamb
 ots geschützt! Zur Anzeige muss JavaScript eingeschaltet sein!</span><scrip
 t type='text/javascript'>
				document.getElementById('cloak87b5c3b855ce7a0
 488815345ec59fc9d').innerHTML = '';
				var prefix = '&#109;a' + 'i&#108;' 
 + '&#116;o';
				var path = 'hr' + 'ef' + '=';
				var addy87b5c3b855ce7a04
 88815345ec59fc9d = 'v&#111;rs&#105;tz&#101;nd&#101;' + '&#64;';
				addy87b
 5c3b855ce7a0488815345ec59fc9d = addy87b5c3b855ce7a0488815345ec59fc9d + '&#1
 01;j&#97;-&#97;&#97;l&#101;n' + '&#46;' + 'd&#101;';
				var addy_text87b5c
 3b855ce7a0488815345ec59fc9d = 'v&#111;rs&#105;tz&#101;nd&#101;' + '&#64;' +
  '&#101;j&#97;-&#97;&#97;l&#101;n' + '&#46;' + 'd&#101;';document.getElemen
 tById('cloak87b5c3b855ce7a0488815345ec59fc9d').innerHTML += '<a ' + path + 
 '\'' + prefix + ':' + addy87b5c3b855ce7a0488815345ec59fc9d + '\'>'+addy_tex
 t87b5c3b855ce7a0488815345ec59fc9d+'<\/a>';
		</script></p><p>Und reiche seh
 r gerne Antr&auml;ge ein, komm dazu - wir freuen uns &uuml;ber Besuch und e
 inen regen Austausch.</p> <a href="https://eja-aalen.de/medien/kalender/ica
 lrepeat.detail/2023/01/19/969/-/bak-sitzung?tmpl=component">Dieser Event wu
 rde importiert von: https://eja-aalen.de/medien/kalender/icalrepeat.detail/
 2023/01/19/969/-/bak-sitzung?tmpl=component</a>CONTACT:Diese E-Mail-Adresse ist vor Spambots geschützt! Zur Anzeige muss JavaScript eingeschaltet sein!
				document.getElementById('cloak899f96a23451578e36f8f5e914c03502').innerHTML = '';
				var prefix = '&#109;a' + 'i&#108;' + '&#116;o';
				var path = 'hr' + 'ef' + '=';
				var addy899f96a23451578e36f8f5e914c03502 = 'v&#111;rs&#105;tz&#101;nd&#101;' + '&#64;';
				addy899f96a23451578e36f8f5e914c03502 = addy899f96a23451578e36f8f5e914c03502 + '&#101;j&#97;-&#97;&#97;l&#101;n' + '&#46;' + 'd&#101;';
				var addy_text899f96a23451578e36f8f5e914c03502 = 'v&#111;rs&#105;tz&#101;nd&#101;' + '&#64;' + '&#101;j&#97;-&#97;&#97;l&#101;n' + '&#46;' + 'd&#101;';document.getElementById('cloak899f96a23451578e36f8f5e914c03502').innerHTML += '<a ' + path + '\'' + prefix + ':' + addy899f96a23451578e36f8f5e914c03502 + '\'>'+addy_text899f96a23451578e36f8f5e914c03502+'';
		
DTSTAMP:20260421T192640
DTSTART:20230119T183000
SEQUENCE:0
TRANSP:OPAQUE
END:VEVENT
END:VCALENDAR