BEGIN:VCALENDAR
VERSION:2.0
PRODID:-//jEvents 2.0 for Joomla//EN
CALSCALE:GREGORIAN
METHOD:PUBLISH
BEGIN:VEVENT
UID:ec85ac3b092a156cae68aff7635ccbec
CATEGORIES:Veranstaltungen
CREATED:20220715T100146
SUMMARY:Jugendtreff in Pflaumloch
LOCATION:ev. Gemeindehaus in Pflaumloch
URL;VALUE=URI:https://eja-aalen.de/medien/kalender/icalrepeat.detail/2022/07/22/972/-/jug
 endtreff-in-pflaumloch?tmpl=component
DESCRIPTION:<p>Einmal im Monat (au&szlig;erhalb der Ferien) trifft sich der Jugendtreff
  im ev. Gemeindehaus in Pflaumloch.</p><p>Wir bieten Spa&szlig;, Begegnung,
  Zeit zum Reden, Abh&auml;ngen, verschiedene Aktionen und freuen uns &uuml;
 ber alle, die Lust haben reinzuschnuppern.</p><p>Am heutigen Abend geht&acu
 te;s rund ums Thema Kino, Sommerspa&szlig; und Ferien. Verena und Lea sind 
 dieses Mal da.</p><p>Teilnahme f&uuml;r alle Interessierten ab der 5. Klass
 e.</p> <a href="https://eja-aalen.de/medien/kalender/icalrepeat.detail/2022
 /07/22/972/-/jugendtreff-in-pflaumloch?tmpl=component">Dieser Event wurde i
 mportiert von: https://eja-aalen.de/medien/kalender/icalrepeat.detail/2022/
 07/22/972/-/jugendtreff-in-pflaumloch?tmpl=component</a>CONTACT:ev. Pfarramt Kirchheim/Ries, Melanie Gießler 07362 3400
DTSTAMP:20260425T153244
DTSTART:20220722T193000
DTEND:20220722T213000
SEQUENCE:0
TRANSP:OPAQUE
END:VEVENT
END:VCALENDAR