BEGIN:VCALENDAR
VERSION:2.0
PRODID:-//jEvents 2.0 for Joomla//EN
CALSCALE:GREGORIAN
METHOD:PUBLISH
BEGIN:VEVENT
UID:85ebc6e638c73c36ea60c5e5635613d7
CATEGORIES:Abwesenheit Elke
CREATED:19700101T000000
SUMMARY:Teilbesetzung eja
URL;VALUE=URI:https://eja-aalen.de/medien/kalender/icalrepeat.detail/2022/09/19/989/-/tei
 lbesetzung-eja?tmpl=component
DESCRIPTION: Dieser Event wurde importiert von: https://eja-aalen.de/medien/kalender/ic
 alrepeat.detail/2022/09/19/989/-/teilbesetzung-eja?tmpl=component
X-ALT-DESC;FMTTYPE=text/html: <a href="https://eja-aalen.de/medien/kalender/icalrepeat.detail/2022/09/19
 /989/-/teilbesetzung-eja?tmpl=component">Dieser Event wurde importiert von:
  https://eja-aalen.de/medien/kalender/icalrepeat.detail/2022/09/19/989/-/te
 ilbesetzung-eja?tmpl=component</a>DTSTAMP:20260425T115519
DTSTART;VALUE=DATE:20220919
DTEND;VALUE=DATE:20220920
SEQUENCE:0
RRULE:FREQ=WEEKLY;UNTIL=20221026T000000Z;INTERVAL=1;BYDAY=MO,TH
EXDATE:20220912T000000,20220915T000000
TRANSP:OPAQUE
END:VEVENT
END:VCALENDAR