BEGIN:VCALENDAR
VERSION:2.0
PRODID:-//jEvents 2.0 for Joomla//EN
CALSCALE:GREGORIAN
METHOD:PUBLISH
BEGIN:VEVENT
UID:046bfcacbefca955c910a808a0c8364a
CATEGORIES:Sonstiges
CREATED:20180412T102249
SUMMARY:EJA nicht besetzt
URL;VALUE=URI:https://eja-aalen.de/medien/kalender/icalrepeat.detail/2018/04/23/248/-/eja
 -nicht-besetzt?tmpl=component
DESCRIPTION:Das Jugendwerk ist heute nicht besetzt.\nIn dringenden Fällen bitte per Mai
 l an uns wenden oder Diese E-Mail-Adresse ist vor Spambots geschützt! Zur A
 nzeige muss JavaScript eingeschaltet sein!
				document.getElementById('clo
 ak6823d2a2ff3e970a0ac5d071b30841bb').innerHTML = '';
				var prefix = '&#10
 9;a' + 'i&#108;' + '&#116;o';
				var path = 'hr' + 'ef' + '=';
				var add
 y6823d2a2ff3e970a0ac5d071b30841bb = 'v&#111;rs&#105;tz&#101;nd&#101;' + '&#
 64;';
				addy6823d2a2ff3e970a0ac5d071b30841bb = addy6823d2a2ff3e970a0ac5d0
 71b30841bb + '&#101;j&#97;-&#97;&#97;l&#101;n' + '&#46;' + 'd&#101;';
				v
 ar addy_text6823d2a2ff3e970a0ac5d071b30841bb = 'v&#111;rs&#105;tz&#101;nd&#
 101;' + '&#64;' + '&#101;j&#97;-&#97;&#97;l&#101;n' + '&#46;' + 'd&#101;';d
 ocument.getElementById('cloak6823d2a2ff3e970a0ac5d071b30841bb').innerHTML +
 = '<a ' + path + '\'' + prefix + ':' + addy6823d2a2ff3e970a0ac5d071b30841bb
  + '\'>'+addy_text6823d2a2ff3e970a0ac5d071b30841bb+'';
		 anschreiben.\nWir
  bitten um Verständnis. Danke.\n Dieser Event wurde importiert von: https:/
 /eja-aalen.de/medien/kalender/icalrepeat.detail/2018/04/23/248/-/eja-nicht-
 besetzt?tmpl=component
X-ALT-DESC;FMTTYPE=text/html:<p>Das Jugendwerk ist heute nicht besetzt.</p><p>In dringenden F&auml;llen 
 bitte per Mail an uns wenden oder <span id="cloak6823d2a2ff3e970a0ac5d071b3
 0841bb">Diese E-Mail-Adresse ist vor Spambots geschützt! Zur Anzeige muss J
 avaScript eingeschaltet sein!</span><script type='text/javascript'>
				doc
 ument.getElementById('cloak6823d2a2ff3e970a0ac5d071b30841bb').innerHTML = '
 ';
				var prefix = '&#109;a' + 'i&#108;' + '&#116;o';
				var path = 'hr' 
 + 'ef' + '=';
				var addy6823d2a2ff3e970a0ac5d071b30841bb = 'v&#111;rs&#10
 5;tz&#101;nd&#101;' + '&#64;';
				addy6823d2a2ff3e970a0ac5d071b30841bb = a
 ddy6823d2a2ff3e970a0ac5d071b30841bb + '&#101;j&#97;-&#97;&#97;l&#101;n' + '
 &#46;' + 'd&#101;';
				var addy_text6823d2a2ff3e970a0ac5d071b30841bb = 'v&
 #111;rs&#105;tz&#101;nd&#101;' + '&#64;' + '&#101;j&#97;-&#97;&#97;l&#101;n
 ' + '&#46;' + 'd&#101;';document.getElementById('cloak6823d2a2ff3e970a0ac5d
 071b30841bb').innerHTML += '<a ' + path + '\'' + prefix + ':' + addy6823d2a
 2ff3e970a0ac5d071b30841bb + '\'>'+addy_text6823d2a2ff3e970a0ac5d071b30841bb
 +'<\/a>';
		</script> anschreiben.</p><p>Wir bitten um Verst&auml;ndnis. Da
 nke.</p> <a href="https://eja-aalen.de/medien/kalender/icalrepeat.detail/20
 18/04/23/248/-/eja-nicht-besetzt?tmpl=component">Dieser Event wurde importi
 ert von: https://eja-aalen.de/medien/kalender/icalrepeat.detail/2018/04/23/
 248/-/eja-nicht-besetzt?tmpl=component</a>CONTACT:Diese E-Mail-Adresse ist vor Spambots geschützt! Zur Anzeige muss JavaScript eingeschaltet sein!
				document.getElementById('cloak7d20b87da66fb35196bb66dd2088ad3f').innerHTML = '';
				var prefix = '&#109;a' + 'i&#108;' + '&#116;o';
				var path = 'hr' + 'ef' + '=';
				var addy7d20b87da66fb35196bb66dd2088ad3f = '&#101;j&#97;' + '&#64;';
				addy7d20b87da66fb35196bb66dd2088ad3f = addy7d20b87da66fb35196bb66dd2088ad3f + '&#101;j&#97;-&#97;&#97;l&#101;n' + '&#46;' + 'd&#101;';
				var addy_text7d20b87da66fb35196bb66dd2088ad3f = '&#101;j&#97;' + '&#64;' + '&#101;j&#97;-&#97;&#97;l&#101;n' + '&#46;' + 'd&#101;';document.getElementById('cloak7d20b87da66fb35196bb66dd2088ad3f').innerHTML += '<a ' + path + '\'' + prefix + ':' + addy7d20b87da66fb35196bb66dd2088ad3f + '\'>'+addy_text7d20b87da66fb35196bb66dd2088ad3f+'';
		
DTSTAMP:20260425T153957
DTSTART:20180423T080000
DTEND:20180423T170000
SEQUENCE:0
TRANSP:OPAQUE
END:VEVENT
END:VCALENDAR