BEGIN:VCALENDAR
VERSION:2.0
PRODID:-//jEvents 2.0 for Joomla//EN
CALSCALE:GREGORIAN
METHOD:PUBLISH
BEGIN:VEVENT
UID:046bfcacbefca955c910a808a0c8364a
CATEGORIES:Sonstiges
CREATED:20180412T102249
SUMMARY:EJA nicht besetzt
URL;VALUE=URI:https://eja-aalen.de/medien/kalender/icalrepeat.detail/2018/04/30/249/-/eja
 -nicht-besetzt?tmpl=component
DESCRIPTION:Das Jugendwerk ist heute nicht besetzt.\nIn dringenden Fällen bitte per Mai
 l an uns wenden oder Diese E-Mail-Adresse ist vor Spambots geschützt! Zur A
 nzeige muss JavaScript eingeschaltet sein!
				document.getElementById('clo
 aka7d72bd9fb0ecc61c2d56ae7f942c8d8').innerHTML = '';
				var prefix = '&#10
 9;a' + 'i&#108;' + '&#116;o';
				var path = 'hr' + 'ef' + '=';
				var add
 ya7d72bd9fb0ecc61c2d56ae7f942c8d8 = 'v&#111;rs&#105;tz&#101;nd&#101;' + '&#
 64;';
				addya7d72bd9fb0ecc61c2d56ae7f942c8d8 = addya7d72bd9fb0ecc61c2d56a
 e7f942c8d8 + '&#101;j&#97;-&#97;&#97;l&#101;n' + '&#46;' + 'd&#101;';
				v
 ar addy_texta7d72bd9fb0ecc61c2d56ae7f942c8d8 = 'v&#111;rs&#105;tz&#101;nd&#
 101;' + '&#64;' + '&#101;j&#97;-&#97;&#97;l&#101;n' + '&#46;' + 'd&#101;';d
 ocument.getElementById('cloaka7d72bd9fb0ecc61c2d56ae7f942c8d8').innerHTML +
 = '<a ' + path + '\'' + prefix + ':' + addya7d72bd9fb0ecc61c2d56ae7f942c8d8
  + '\'>'+addy_texta7d72bd9fb0ecc61c2d56ae7f942c8d8+'';
		 anschreiben.\nWir
  bitten um Verständnis. Danke.\n Dieser Event wurde importiert von: https:/
 /eja-aalen.de/medien/kalender/icalrepeat.detail/2018/04/30/249/-/eja-nicht-
 besetzt?tmpl=component
X-ALT-DESC;FMTTYPE=text/html:<p>Das Jugendwerk ist heute nicht besetzt.</p><p>In dringenden F&auml;llen 
 bitte per Mail an uns wenden oder <span id="cloaka7d72bd9fb0ecc61c2d56ae7f9
 42c8d8">Diese E-Mail-Adresse ist vor Spambots geschützt! Zur Anzeige muss J
 avaScript eingeschaltet sein!</span><script type='text/javascript'>
				doc
 ument.getElementById('cloaka7d72bd9fb0ecc61c2d56ae7f942c8d8').innerHTML = '
 ';
				var prefix = '&#109;a' + 'i&#108;' + '&#116;o';
				var path = 'hr' 
 + 'ef' + '=';
				var addya7d72bd9fb0ecc61c2d56ae7f942c8d8 = 'v&#111;rs&#10
 5;tz&#101;nd&#101;' + '&#64;';
				addya7d72bd9fb0ecc61c2d56ae7f942c8d8 = a
 ddya7d72bd9fb0ecc61c2d56ae7f942c8d8 + '&#101;j&#97;-&#97;&#97;l&#101;n' + '
 &#46;' + 'd&#101;';
				var addy_texta7d72bd9fb0ecc61c2d56ae7f942c8d8 = 'v&
 #111;rs&#105;tz&#101;nd&#101;' + '&#64;' + '&#101;j&#97;-&#97;&#97;l&#101;n
 ' + '&#46;' + 'd&#101;';document.getElementById('cloaka7d72bd9fb0ecc61c2d56
 ae7f942c8d8').innerHTML += '<a ' + path + '\'' + prefix + ':' + addya7d72bd
 9fb0ecc61c2d56ae7f942c8d8 + '\'>'+addy_texta7d72bd9fb0ecc61c2d56ae7f942c8d8
 +'<\/a>';
		</script> anschreiben.</p><p>Wir bitten um Verst&auml;ndnis. Da
 nke.</p> <a href="https://eja-aalen.de/medien/kalender/icalrepeat.detail/20
 18/04/30/249/-/eja-nicht-besetzt?tmpl=component">Dieser Event wurde importi
 ert von: https://eja-aalen.de/medien/kalender/icalrepeat.detail/2018/04/30/
 249/-/eja-nicht-besetzt?tmpl=component</a>CONTACT:Diese E-Mail-Adresse ist vor Spambots geschützt! Zur Anzeige muss JavaScript eingeschaltet sein!
				document.getElementById('cloak4fd3e8c0b95315ca905c5a3a5ad99ed7').innerHTML = '';
				var prefix = '&#109;a' + 'i&#108;' + '&#116;o';
				var path = 'hr' + 'ef' + '=';
				var addy4fd3e8c0b95315ca905c5a3a5ad99ed7 = '&#101;j&#97;' + '&#64;';
				addy4fd3e8c0b95315ca905c5a3a5ad99ed7 = addy4fd3e8c0b95315ca905c5a3a5ad99ed7 + '&#101;j&#97;-&#97;&#97;l&#101;n' + '&#46;' + 'd&#101;';
				var addy_text4fd3e8c0b95315ca905c5a3a5ad99ed7 = '&#101;j&#97;' + '&#64;' + '&#101;j&#97;-&#97;&#97;l&#101;n' + '&#46;' + 'd&#101;';document.getElementById('cloak4fd3e8c0b95315ca905c5a3a5ad99ed7').innerHTML += '<a ' + path + '\'' + prefix + ':' + addy4fd3e8c0b95315ca905c5a3a5ad99ed7 + '\'>'+addy_text4fd3e8c0b95315ca905c5a3a5ad99ed7+'';
		
DTSTAMP:20260423T081207
DTSTART:20180430T080000
DTEND:20180430T170000
SEQUENCE:0
TRANSP:OPAQUE
END:VEVENT
END:VCALENDAR