BEGIN:VCALENDAR
VERSION:2.0
PRODID:-//jEvents 2.0 for Joomla//EN
CALSCALE:GREGORIAN
METHOD:PUBLISH
BEGIN:VEVENT
UID:b9e294950782b69e41d7d4101403eed0
CATEGORIES:Abwesenheit Verena
CREATED:20190808T080217
SUMMARY:Teilbesetzung EJA
URL;VALUE=URI:https://eja-aalen.de/medien/kalender/icalrepeat.detail/2019/11/05/455/-/tei
 lbesetzung-eja?tmpl=component
DESCRIPTION: Dieser Event wurde importiert von: https://eja-aalen.de/medien/kalender/ic
 alrepeat.detail/2019/11/05/455/-/teilbesetzung-eja?tmpl=component
X-ALT-DESC;FMTTYPE=text/html: <a href="https://eja-aalen.de/medien/kalender/icalrepeat.detail/2019/11/05
 /455/-/teilbesetzung-eja?tmpl=component">Dieser Event wurde importiert von:
  https://eja-aalen.de/medien/kalender/icalrepeat.detail/2019/11/05/455/-/te
 ilbesetzung-eja?tmpl=component</a>DTSTAMP:20260424T032853
DTSTART;VALUE=DATE:20191105
DTEND;VALUE=DATE:20191106
SEQUENCE:0
TRANSP:OPAQUE
END:VEVENT
END:VCALENDAR