BEGIN:VCALENDAR
VERSION:2.0
PRODID:-//jEvents 2.0 for Joomla//EN
CALSCALE:GREGORIAN
METHOD:PUBLISH
BEGIN:VEVENT
UID:51c5bc2baf9924628a9ba53304a87074
CATEGORIES:Abwesenheit Verena
CREATED:20200115T092653
SUMMARY:Teilbesetzung EJA
URL;VALUE=URI:https://eja-aalen.de/medien/kalender/icalrepeat.detail/2020/06/08/576/-/tei
 lbesetzung-eja?tmpl=component
DESCRIPTION: <a href="https://eja-aalen.de/medien/kalender/icalrepeat.detail/2020/06/08
 /576/-/teilbesetzung-eja?tmpl=component">Dieser Event wurde importiert von:
  https://eja-aalen.de/medien/kalender/icalrepeat.detail/2020/06/08/576/-/te
 ilbesetzung-eja?tmpl=component</a>DTSTAMP:20260422T175754
DTSTART;VALUE=DATE:20200608
DTEND;VALUE=DATE:20200613
SEQUENCE:0
TRANSP:OPAQUE
END:VEVENT
END:VCALENDAR