BEGIN:VCALENDAR
VERSION:2.0
PRODID:-//jEvents 2.0 for Joomla//EN
CALSCALE:GREGORIAN
METHOD:PUBLISH
BEGIN:VEVENT
UID:0d8d358e724b4613aa4f2dfb7827ac44
CATEGORIES:Abwesenheit Elke
CREATED:20200128T182442
SUMMARY:Teilbesetzung EJA
URL;VALUE=URI:https://eja-aalen.de/medien/kalender/icalrepeat.detail/2020/01/30/593/-/tei
 lbesetzung-eja?tmpl=component
DESCRIPTION: Dieser Event wurde importiert von: https://eja-aalen.de/medien/kalender/ic
 alrepeat.detail/2020/01/30/593/-/teilbesetzung-eja?tmpl=component
X-ALT-DESC;FMTTYPE=text/html: <a href="https://eja-aalen.de/medien/kalender/icalrepeat.detail/2020/01/30
 /593/-/teilbesetzung-eja?tmpl=component">Dieser Event wurde importiert von:
  https://eja-aalen.de/medien/kalender/icalrepeat.detail/2020/01/30/593/-/te
 ilbesetzung-eja?tmpl=component</a>DTSTAMP:20260424T194917
DTSTART;VALUE=DATE:20200130
DTEND;VALUE=DATE:20200131
SEQUENCE:0
TRANSP:OPAQUE
END:VEVENT
END:VCALENDAR