BEGIN:VCALENDAR
VERSION:2.0
PRODID:-//jEvents 2.0 for Joomla//EN
CALSCALE:GREGORIAN
METHOD:PUBLISH
BEGIN:VEVENT
UID:2be42b6aae335d24fb19dcafb6d5cf10
CATEGORIES:Veranstaltungen
CREATED:20200406T161531
SUMMARY:rAuszeit - Onlineangebot
LOCATION:Online: http://eja-aalen.de/rauszeit (http://eja-aalen.de/rauszeit)
URL;VALUE=URI:https://eja-aalen.de/medien/kalender/icalrepeat.detail/2020/04/08/608/-/rau
 szeit-onlineangebot?tmpl=component
DESCRIPTION:Jeden Tag um 16.00 Uhr gibt’s nen kleinen Impuls zu unserem Wochenthema (di
 ese Woche: Hoffnung) und die Möglichkeit sich einfach mal in Ruhe darüber a
 uszutauschen. Jeder kann so mitmachen, wie er oder sie gerne möchte. Du bra
 uchst dazu nur ein internetfähiges Gerät und die Lust mal reinzuklicken. Am
  einfachsten funktionierts, wenn du den Google-Chrom-Browser benutzen kanns
 t oder die App nutzt. Egal, wie du magst.\n Dieser Event wurde importiert v
 on: https://eja-aalen.de/medien/kalender/icalrepeat.detail/2020/04/08/608/-
 /rauszeit-onlineangebot?tmpl=component (https://eja-aalen.de/medien/kalende
 r/icalrepeat.detail/2020/04/08/608/-/rauszeit-onlineangebot?tmpl=component)
X-ALT-DESC;FMTTYPE=text/html:<p>Jeden Tag um 16.00 Uhr gibt&rsquo;s nen kleinen Impuls zu unserem Wochen
 thema (diese Woche: Hoffnung) und die M&ouml;glichkeit sich einfach mal in 
 Ruhe dar&uuml;ber auszutauschen. Jeder kann so mitmachen, wie er oder sie g
 erne m&ouml;chte. Du brauchst dazu nur ein internetf&auml;higes Ger&auml;t 
 und die Lust mal reinzuklicken. Am einfachsten funktionierts, wenn du den G
 oogle-Chrom-Browser benutzen kannst oder die App nutzt. Egal, wie du magst.
 </p> <a href="https://eja-aalen.de/medien/kalender/icalrepeat.detail/2020/0
 4/08/608/-/rauszeit-onlineangebot?tmpl=component">Dieser Event wurde import
 iert von: https://eja-aalen.de/medien/kalender/icalrepeat.detail/2020/04/08
 /608/-/rauszeit-onlineangebot?tmpl=component</a>CONTACT:Diese E-Mail-Adresse ist vor Spambots geschützt! Zur Anzeige muss JavaScript eingeschaltet sein!
				document.getElementById('cloak8278cf4401c59b83ad566deb1af9b944').innerHTML = '';
				var prefix = '&#109;a' + 'i&#108;' + '&#116;o';
				var path = 'hr' + 'ef' + '=';
				var addy8278cf4401c59b83ad566deb1af9b944 = 'g&#101;mp&#101;rl&#101;&#105;n.v&#101;r&#101;n&#97;' + '&#64;';
				addy8278cf4401c59b83ad566deb1af9b944 = addy8278cf4401c59b83ad566deb1af9b944 + '&#101;j&#97;-&#97;&#97;l&#101;n' + '&#46;' + 'd&#101;';
				var addy_text8278cf4401c59b83ad566deb1af9b944 = 'g&#101;mp&#101;rl&#101;&#105;n.v&#101;r&#101;n&#97;' + '&#64;' + '&#101;j&#97;-&#97;&#97;l&#101;n' + '&#46;' + 'd&#101;';document.getElementById('cloak8278cf4401c59b83ad566deb1af9b944').innerHTML += '<a ' + path + '\'' + prefix + ':' + addy8278cf4401c59b83ad566deb1af9b944 + '\'>'+addy_text8278cf4401c59b83ad566deb1af9b944+'';
		
DTSTAMP:20260424T111245
DTSTART:20200408T160000
DTEND:20200408T163000
SEQUENCE:0
TRANSP:OPAQUE
END:VEVENT
END:VCALENDAR