BEGIN:VCALENDAR
VERSION:2.0
PRODID:-//jEvents 2.0 for Joomla//EN
CALSCALE:GREGORIAN
METHOD:PUBLISH
BEGIN:VEVENT
UID:2be42b6aae335d24fb19dcafb6d5cf10
CATEGORIES:Veranstaltungen
CREATED:20200406T161531
SUMMARY:rAuszeit - Onlineangebot
LOCATION:Online: http://eja-aalen.de/rauszeit (http://eja-aalen.de/rauszeit)
URL;VALUE=URI:https://eja-aalen.de/medien/kalender/icalrepeat.detail/2020/04/12/612/-/rau
 szeit-onlineangebot?tmpl=component
DESCRIPTION:<p>Jeden Tag um 16.00 Uhr gibt&rsquo;s nen kleinen Impuls zu unserem Wochen
 thema (diese Woche: Hoffnung) und die M&ouml;glichkeit sich einfach mal in 
 Ruhe dar&uuml;ber auszutauschen. Jeder kann so mitmachen, wie er oder sie g
 erne m&ouml;chte. Du brauchst dazu nur ein internetf&auml;higes Ger&auml;t 
 und die Lust mal reinzuklicken. Am einfachsten funktionierts, wenn du den G
 oogle-Chrom-Browser benutzen kannst oder die App nutzt. Egal, wie du magst.
 </p> <a href="https://eja-aalen.de/medien/kalender/icalrepeat.detail/2020/0
 4/12/612/-/rauszeit-onlineangebot?tmpl=component">Dieser Event wurde import
 iert von: https://eja-aalen.de/medien/kalender/icalrepeat.detail/2020/04/12
 /612/-/rauszeit-onlineangebot?tmpl=component</a>CONTACT:Diese E-Mail-Adresse ist vor Spambots geschützt! Zur Anzeige muss JavaScript eingeschaltet sein!
				document.getElementById('cloakf465c1c1583e13f97a0b55b2cafa5b5e').innerHTML = '';
				var prefix = '&#109;a' + 'i&#108;' + '&#116;o';
				var path = 'hr' + 'ef' + '=';
				var addyf465c1c1583e13f97a0b55b2cafa5b5e = 'g&#101;mp&#101;rl&#101;&#105;n.v&#101;r&#101;n&#97;' + '&#64;';
				addyf465c1c1583e13f97a0b55b2cafa5b5e = addyf465c1c1583e13f97a0b55b2cafa5b5e + '&#101;j&#97;-&#97;&#97;l&#101;n' + '&#46;' + 'd&#101;';
				var addy_textf465c1c1583e13f97a0b55b2cafa5b5e = 'g&#101;mp&#101;rl&#101;&#105;n.v&#101;r&#101;n&#97;' + '&#64;' + '&#101;j&#97;-&#97;&#97;l&#101;n' + '&#46;' + 'd&#101;';document.getElementById('cloakf465c1c1583e13f97a0b55b2cafa5b5e').innerHTML += '<a ' + path + '\'' + prefix + ':' + addyf465c1c1583e13f97a0b55b2cafa5b5e + '\'>'+addy_textf465c1c1583e13f97a0b55b2cafa5b5e+'';
		
DTSTAMP:20260425T022715
DTSTART:20200412T160000
DTEND:20200412T163000
SEQUENCE:0
TRANSP:OPAQUE
END:VEVENT
END:VCALENDAR