BEGIN:VCALENDAR
VERSION:2.0
PRODID:-//jEvents 2.0 for Joomla//EN
CALSCALE:GREGORIAN
METHOD:PUBLISH
BEGIN:VEVENT
UID:8215fe1b496c9abb08b99dacdfda881a
CATEGORIES:Veranstaltungen
CREATED:20200406T162216
SUMMARY:rAuszeit - Onlineangebot
LOCATION:http://eja-aalen.de/rauszeit (http://eja-aalen.de/rauszeit)
URL;VALUE=URI:https://eja-aalen.de/medien/kalender/icalrepeat.detail/2020/04/14/628/-/rau
 szeit-onlineangebot?tmpl=component
DESCRIPTION:Jeden Tag um 16.00 Uhr gibt’s nen kleinen Impuls zu unserem Wochenthema (di
 ese Woche: Spiel &amp; Spaß) und die Möglichkeit sich einfach mal in Ruhe d
 arüber auszutauschen. Jeder kann so mitmachen, wie er oder sie gerne möchte
 . Du brauchst dazu nur ein internetfähiges Gerät und die Lust mal reinzukli
 cken. Am einfachsten funktionierts, wenn du den Google-Chrom-Browser benutz
 en kannst oder die App nutzt. Egal, wie du magst.\n Dieser Event wurde impo
 rtiert von: https://eja-aalen.de/medien/kalender/icalrepeat.detail/2020/04/
 14/628/-/rauszeit-onlineangebot?tmpl=component
X-ALT-DESC;FMTTYPE=text/html:<p>Jeden Tag um 16.00 Uhr gibt&rsquo;s nen kleinen Impuls zu unserem Wochen
 thema (diese Woche: Spiel &amp; Spa&szlig;) und die M&ouml;glichkeit sich e
 infach mal in Ruhe dar&uuml;ber auszutauschen. Jeder kann so mitmachen, wie
  er oder sie gerne m&ouml;chte. Du brauchst dazu nur ein internetf&auml;hig
 es Ger&auml;t und die Lust mal reinzuklicken. Am einfachsten funktionierts,
  wenn du den Google-Chrom-Browser benutzen kannst oder die App nutzt. Egal,
  wie du magst.</p> <a href="https://eja-aalen.de/medien/kalender/icalrepeat
 .detail/2020/04/14/628/-/rauszeit-onlineangebot?tmpl=component">Dieser Even
 t wurde importiert von: https://eja-aalen.de/medien/kalender/icalrepeat.det
 ail/2020/04/14/628/-/rauszeit-onlineangebot?tmpl=component</a>CONTACT:Diese E-Mail-Adresse ist vor Spambots geschützt! Zur Anzeige muss JavaScript eingeschaltet sein!
				document.getElementById('cloak1890b21e388cc821a31cadf1c9864a2c').innerHTML = '';
				var prefix = '&#109;a' + 'i&#108;' + '&#116;o';
				var path = 'hr' + 'ef' + '=';
				var addy1890b21e388cc821a31cadf1c9864a2c = 'g&#101;mp&#101;rl&#101;&#105;n.v&#101;r&#101;n&#97;' + '&#64;';
				addy1890b21e388cc821a31cadf1c9864a2c = addy1890b21e388cc821a31cadf1c9864a2c + '&#101;j&#97;-&#97;&#97;l&#101;n' + '&#46;' + 'd&#101;';
				var addy_text1890b21e388cc821a31cadf1c9864a2c = 'g&#101;mp&#101;rl&#101;&#105;n.v&#101;r&#101;n&#97;' + '&#64;' + '&#101;j&#97;-&#97;&#97;l&#101;n' + '&#46;' + 'd&#101;';document.getElementById('cloak1890b21e388cc821a31cadf1c9864a2c').innerHTML += '<a ' + path + '\'' + prefix + ':' + addy1890b21e388cc821a31cadf1c9864a2c + '\'>'+addy_text1890b21e388cc821a31cadf1c9864a2c+'';
		
DTSTAMP:20260423T060233
DTSTART:20200414T160000
DTEND:20200414T163000
SEQUENCE:0
TRANSP:OPAQUE
END:VEVENT
END:VCALENDAR