BEGIN:VCALENDAR
VERSION:2.0
PRODID:-//jEvents 2.0 for Joomla//EN
CALSCALE:GREGORIAN
METHOD:PUBLISH
BEGIN:VEVENT
UID:bd4c7533f718b3b3460ee60c3e1abd03
CATEGORIES:Veranstaltungen
CREATED:20200406T162446
SUMMARY:rAuszeit - Onlineangebot
LOCATION:http://eja-aalen.de/rauszeit (http://eja-aalen.de/rauszeit)
URL;VALUE=URI:https://eja-aalen.de/medien/kalender/icalrepeat.detail/2020/04/02/637/-/rau
 szeit-onlineangebot?tmpl=component
DESCRIPTION:Tägliches Angebot zum Reinschnuppern, für den gemeinsamen Austausch und meh
 r. Jede/r kann mitmachen, so wie es für einen selbst passt. Unser Wochenthe
 ma: Wünsche &amp; Träume\nDauer ca. 30min\n Dieser Event wurde importiert v
 on: https://eja-aalen.de/medien/kalender/icalrepeat.detail/2020/04/02/637/-
 /rauszeit-onlineangebot?tmpl=component (https://eja-aalen.de/medien/kalende
 r/icalrepeat.detail/2020/04/02/637/-/rauszeit-onlineangebot?tmpl=component)
X-ALT-DESC;FMTTYPE=text/html:<p>T&auml;gliches Angebot zum Reinschnuppern, f&uuml;r den gemeinsamen Aust
 ausch und mehr. Jede/r kann mitmachen, so wie es f&uuml;r einen selbst pass
 t. Unser Wochenthema: W&uuml;nsche &amp; Tr&auml;ume</p><p>Dauer ca. 30min<
 /p> <a href="https://eja-aalen.de/medien/kalender/icalrepeat.detail/2020/04
 /02/637/-/rauszeit-onlineangebot?tmpl=component">Dieser Event wurde importi
 ert von: https://eja-aalen.de/medien/kalender/icalrepeat.detail/2020/04/02/
 637/-/rauszeit-onlineangebot?tmpl=component</a>CONTACT:Diese E-Mail-Adresse ist vor Spambots geschützt! Zur Anzeige muss JavaScript eingeschaltet sein!
				document.getElementById('cloak07faed9f4401fc44abc0f1fdb4d85cc0').innerHTML = '';
				var prefix = '&#109;a' + 'i&#108;' + '&#116;o';
				var path = 'hr' + 'ef' + '=';
				var addy07faed9f4401fc44abc0f1fdb4d85cc0 = 'g&#101;mp&#101;rl&#101;&#105;n.v&#101;r&#101;n&#97;' + '&#64;';
				addy07faed9f4401fc44abc0f1fdb4d85cc0 = addy07faed9f4401fc44abc0f1fdb4d85cc0 + '&#101;j&#97;-&#97;&#97;l&#101;n' + '&#46;' + 'd&#101;';
				var addy_text07faed9f4401fc44abc0f1fdb4d85cc0 = 'g&#101;mp&#101;rl&#101;&#105;n.v&#101;r&#101;n&#97;' + '&#64;' + '&#101;j&#97;-&#97;&#97;l&#101;n' + '&#46;' + 'd&#101;';document.getElementById('cloak07faed9f4401fc44abc0f1fdb4d85cc0').innerHTML += '<a ' + path + '\'' + prefix + ':' + addy07faed9f4401fc44abc0f1fdb4d85cc0 + '\'>'+addy_text07faed9f4401fc44abc0f1fdb4d85cc0+'';
		
DTSTAMP:20260422T232715
DTSTART:20200402T160000
DTEND:20200402T163000
SEQUENCE:0
TRANSP:OPAQUE
END:VEVENT
END:VCALENDAR