BEGIN:VCALENDAR
VERSION:2.0
PRODID:-//jEvents 2.0 for Joomla//EN
CALSCALE:GREGORIAN
METHOD:PUBLISH
BEGIN:VEVENT
UID:2899f05a398f529b3431ca44a6f0c9a2
CATEGORIES:Veranstaltungen
CREATED:20200420T152721
SUMMARY:rAuszeit - Onlineangebot
LOCATION:http://eja-aalen.de/rauszeit (http://eja-aalen.de/rauszeit)
URL;VALUE=URI:https://eja-aalen.de/medien/kalender/icalrepeat.detail/2020/04/25/652/-/rau
 szeit-onlineangebot?tmpl=component
DESCRIPTION:tägliches Angebot für alle Interessierten\nWochenthema: Freiheit\n Dieser E
 vent wurde importiert von: https://eja-aalen.de/medien/kalender/icalrepeat.
 detail/2020/04/25/652/-/rauszeit-onlineangebot?tmpl=component (https://eja-
 aalen.de/medien/kalender/icalrepeat.detail/2020/04/25/652/-/rauszeit-online
 angebot?tmpl=component)
X-ALT-DESC;FMTTYPE=text/html:<p>t&auml;gliches Angebot f&uuml;r alle Interessierten</p><p>Wochenthema: F
 reiheit</p> <a href="https://eja-aalen.de/medien/kalender/icalrepeat.detail
 /2020/04/25/652/-/rauszeit-onlineangebot?tmpl=component">Dieser Event wurde
  importiert von: https://eja-aalen.de/medien/kalender/icalrepeat.detail/202
 0/04/25/652/-/rauszeit-onlineangebot?tmpl=component</a>CONTACT:Diese E-Mail-Adresse ist vor Spambots geschützt! Zur Anzeige muss JavaScript eingeschaltet sein!
				document.getElementById('cloak5e8c2e2d9f7a86629d26703e3e294d7e').innerHTML = '';
				var prefix = '&#109;a' + 'i&#108;' + '&#116;o';
				var path = 'hr' + 'ef' + '=';
				var addy5e8c2e2d9f7a86629d26703e3e294d7e = 'g&#101;mp&#101;rl&#101;&#105;n.v&#101;r&#101;n&#97;' + '&#64;';
				addy5e8c2e2d9f7a86629d26703e3e294d7e = addy5e8c2e2d9f7a86629d26703e3e294d7e + '&#101;j&#97;-&#97;&#97;l&#101;n' + '&#46;' + 'd&#101;';
				var addy_text5e8c2e2d9f7a86629d26703e3e294d7e = 'g&#101;mp&#101;rl&#101;&#105;n.v&#101;r&#101;n&#97;' + '&#64;' + '&#101;j&#97;-&#97;&#97;l&#101;n' + '&#46;' + 'd&#101;';document.getElementById('cloak5e8c2e2d9f7a86629d26703e3e294d7e').innerHTML += '<a ' + path + '\'' + prefix + ':' + addy5e8c2e2d9f7a86629d26703e3e294d7e + '\'>'+addy_text5e8c2e2d9f7a86629d26703e3e294d7e+'';
		
DTSTAMP:20260423T043539
DTSTART:20200425T160000
DTEND:20200425T163000
SEQUENCE:0
TRANSP:OPAQUE
END:VEVENT
END:VCALENDAR