BEGIN:VCALENDAR
VERSION:2.0
PRODID:-//jEvents 2.0 for Joomla//EN
CALSCALE:GREGORIAN
METHOD:PUBLISH
BEGIN:VEVENT
UID:dd0f632fc7397389173a276ec0e603c5
CATEGORIES:Abwesenheit Elke
CREATED:20201216T102319
SUMMARY:Teilbesetzung EJA
URL;VALUE=URI:https://eja-aalen.de/medien/kalender/icalrepeat.detail/2021/01/07/747/-/tei
 lbesetzung-eja?tmpl=component
DESCRIPTION: <a href="https://eja-aalen.de/medien/kalender/icalrepeat.detail/2021/01/07
 /747/-/teilbesetzung-eja?tmpl=component">Dieser Event wurde importiert von:
  https://eja-aalen.de/medien/kalender/icalrepeat.detail/2021/01/07/747/-/te
 ilbesetzung-eja?tmpl=component</a>DTSTAMP:20260423T123139
DTSTART;VALUE=DATE:20210107
DTEND;VALUE=DATE:20210108
SEQUENCE:0
TRANSP:OPAQUE
END:VEVENT
END:VCALENDAR