BEGIN:VCALENDAR
VERSION:2.0
PRODID:-//jEvents 2.0 for Joomla//EN
CALSCALE:GREGORIAN
METHOD:PUBLISH
BEGIN:VEVENT
UID:c901366851847d9fa7ea56f90f31acfa
CATEGORIES:Abwesenheit Verena
CREATED:20201216T102442
SUMMARY:Teilbesetzung EJA
URL;VALUE=URI:https://eja-aalen.de/medien/kalender/icalrepeat.detail/2020/12/28/751/-/tei
 lbesetzung-eja?tmpl=component
DESCRIPTION: <a href="https://eja-aalen.de/medien/kalender/icalrepeat.detail/2020/12/28
 /751/-/teilbesetzung-eja?tmpl=component">Dieser Event wurde importiert von:
  https://eja-aalen.de/medien/kalender/icalrepeat.detail/2020/12/28/751/-/te
 ilbesetzung-eja?tmpl=component</a>DTSTAMP:20260423T000904
DTSTART;VALUE=DATE:20201228
DTEND;VALUE=DATE:20201229
SEQUENCE:0
TRANSP:OPAQUE
END:VEVENT
END:VCALENDAR