BEGIN:VCALENDAR
VERSION:2.0
PRODID:-//jEvents 2.0 for Joomla//EN
CALSCALE:GREGORIAN
METHOD:PUBLISH
BEGIN:VEVENT
UID:1c1c584914d3ef860f27f742fe607f03
CATEGORIES:Veranstaltungen
CREATED:20211210T113857
SUMMARY:ConnectBar (für junge Erwachsene)
URL;VALUE=URI:https://eja-aalen.de/medien/kalender/icalrepeat.detail/2022/07/02/896/-/con
 nectbar-fuer-junge-erwachsene?tmpl=component
DESCRIPTION: Dieser Event wurde importiert von: https://eja-aalen.de/medien/kalender/ic
 alrepeat.detail/2022/07/02/896/-/connectbar-fuer-junge-erwachsene?tmpl=comp
 onent (https://eja-aalen.de/medien/kalender/icalrepeat.detail/2022/07/02/89
 6/-/connectbar-fuer-junge-erwachsene?tmpl=component)
X-ALT-DESC;FMTTYPE=text/html: <a href="https://eja-aalen.de/medien/kalender/icalrepeat.detail/2022/07/02
 /896/-/connectbar-fuer-junge-erwachsene?tmpl=component">Dieser Event wurde 
 importiert von: https://eja-aalen.de/medien/kalender/icalrepeat.detail/2022
 /07/02/896/-/connectbar-fuer-junge-erwachsene?tmpl=component</a>DTSTAMP:20260424T063522
DTSTART:20220702T193000
SEQUENCE:0
TRANSP:OPAQUE
END:VEVENT
END:VCALENDAR