BEGIN:VCALENDAR
VERSION:2.0
PRODID:-//jEvents 2.0 for Joomla//EN
CALSCALE:GREGORIAN
METHOD:PUBLISH
BEGIN:VEVENT
UID:ef9c56f83b48ceb12e5ac8cfb9cb6f7f
CATEGORIES:Sonstiges
CREATED:20211210T114926
SUMMARY:ConnectYOUng (Jugendgruppe)
LOCATION:Ev. Gemeindehaus AA 
URL;VALUE=URI:https://eja-aalen.de/medien/kalender/icalrepeat.detail/2022/03/15/919/-/con
 nectyoung-jugendgruppe?tmpl=component
DESCRIPTION: <a href="https://eja-aalen.de/medien/kalender/icalrepeat.detail/2022/03/15
 /919/-/connectyoung-jugendgruppe?tmpl=component">Dieser Event wurde importi
 ert von: https://eja-aalen.de/medien/kalender/icalrepeat.detail/2022/03/15/
 919/-/connectyoung-jugendgruppe?tmpl=component</a>CONTACT:Diese E-Mail-Adresse ist vor Spambots geschützt! Zur Anzeige muss JavaScript eingeschaltet sein!
				document.getElementById('cloakce9f50546f76098681ba1a45988dc6ac').innerHTML = '';
				var prefix = '&#109;a' + 'i&#108;' + '&#116;o';
				var path = 'hr' + 'ef' + '=';
				var addyce9f50546f76098681ba1a45988dc6ac = 'bl&#117;&#101;m&#101;l.&#97;l&#101;x&#97;nd&#101;r' + '&#64;';
				addyce9f50546f76098681ba1a45988dc6ac = addyce9f50546f76098681ba1a45988dc6ac + '&#101;j&#97;-&#97;&#97;l&#101;n' + '&#46;' + 'd&#101;';
				var addy_textce9f50546f76098681ba1a45988dc6ac = 'bl&#117;&#101;m&#101;l.&#97;l&#101;x&#97;nd&#101;r' + '&#64;' + '&#101;j&#97;-&#97;&#97;l&#101;n' + '&#46;' + 'd&#101;';document.getElementById('cloakce9f50546f76098681ba1a45988dc6ac').innerHTML += '<a ' + path + '\'' + prefix + ':' + addyce9f50546f76098681ba1a45988dc6ac + '\'>'+addy_textce9f50546f76098681ba1a45988dc6ac+'';
		
X-EXTRAINFO:Termin in den Ferien nur nach Absprache!
DTSTAMP:20260424T021518
DTSTART:20220315T190000
DTEND:20220315T210000
SEQUENCE:0
TRANSP:OPAQUE
END:VEVENT
END:VCALENDAR