BEGIN:VCALENDAR
VERSION:2.0
PRODID:-//jEvents 2.0 for Joomla//EN
CALSCALE:GREGORIAN
METHOD:PUBLISH
BEGIN:VEVENT
UID:ef9c56f83b48ceb12e5ac8cfb9cb6f7f
CATEGORIES:Sonstiges
CREATED:20211210T114926
SUMMARY:ConnectYOUng (Jugendgruppe)
LOCATION:Ev. Gemeindehaus AA 
URL;VALUE=URI:https://eja-aalen.de/medien/kalender/icalrepeat.detail/2022/04/05/920/-/con
 nectyoung-jugendgruppe?tmpl=component
DESCRIPTION: Dieser Event wurde importiert von: https://eja-aalen.de/medien/kalender/ic
 alrepeat.detail/2022/04/05/920/-/connectyoung-jugendgruppe?tmpl=component (
 https://eja-aalen.de/medien/kalender/icalrepeat.detail/2022/04/05/920/-/con
 nectyoung-jugendgruppe?tmpl=component)
X-ALT-DESC;FMTTYPE=text/html: <a href="https://eja-aalen.de/medien/kalender/icalrepeat.detail/2022/04/05
 /920/-/connectyoung-jugendgruppe?tmpl=component">Dieser Event wurde importi
 ert von: https://eja-aalen.de/medien/kalender/icalrepeat.detail/2022/04/05/
 920/-/connectyoung-jugendgruppe?tmpl=component</a>CONTACT:Diese E-Mail-Adresse ist vor Spambots geschützt! Zur Anzeige muss JavaScript eingeschaltet sein!
				document.getElementById('cloak359825d0ae5a911ac568d5fe5062a9ef').innerHTML = '';
				var prefix = '&#109;a' + 'i&#108;' + '&#116;o';
				var path = 'hr' + 'ef' + '=';
				var addy359825d0ae5a911ac568d5fe5062a9ef = 'bl&#117;&#101;m&#101;l.&#97;l&#101;x&#97;nd&#101;r' + '&#64;';
				addy359825d0ae5a911ac568d5fe5062a9ef = addy359825d0ae5a911ac568d5fe5062a9ef + '&#101;j&#97;-&#97;&#97;l&#101;n' + '&#46;' + 'd&#101;';
				var addy_text359825d0ae5a911ac568d5fe5062a9ef = 'bl&#117;&#101;m&#101;l.&#97;l&#101;x&#97;nd&#101;r' + '&#64;' + '&#101;j&#97;-&#97;&#97;l&#101;n' + '&#46;' + 'd&#101;';document.getElementById('cloak359825d0ae5a911ac568d5fe5062a9ef').innerHTML += '<a ' + path + '\'' + prefix + ':' + addy359825d0ae5a911ac568d5fe5062a9ef + '\'>'+addy_text359825d0ae5a911ac568d5fe5062a9ef+'';
		
X-EXTRAINFO:Termin in den Ferien nur nach Absprache!
DTSTAMP:20260425T140231
DTSTART:20220405T190000
DTEND:20220405T210000
SEQUENCE:0
TRANSP:OPAQUE
END:VEVENT
END:VCALENDAR