BEGIN:VCALENDAR
VERSION:2.0
PRODID:-//jEvents 2.0 for Joomla//EN
CALSCALE:GREGORIAN
METHOD:PUBLISH
BEGIN:VEVENT
UID:ef9c56f83b48ceb12e5ac8cfb9cb6f7f
CATEGORIES:Sonstiges
CREATED:20211210T114926
SUMMARY:ConnectYOUng (Jugendgruppe)
LOCATION:Ev. Gemeindehaus AA 
URL;VALUE=URI:https://eja-aalen.de/medien/kalender/icalrepeat.detail/2022/06/21/925/-/con
 nectyoung-jugendgruppe?tmpl=component
DESCRIPTION: <a href="https://eja-aalen.de/medien/kalender/icalrepeat.detail/2022/06/21
 /925/-/connectyoung-jugendgruppe?tmpl=component">Dieser Event wurde importi
 ert von: https://eja-aalen.de/medien/kalender/icalrepeat.detail/2022/06/21/
 925/-/connectyoung-jugendgruppe?tmpl=component</a>CONTACT:Diese E-Mail-Adresse ist vor Spambots geschützt! Zur Anzeige muss JavaScript eingeschaltet sein!
				document.getElementById('cloakd33ae75ab1d5ad229ccdd2d6c3630b9d').innerHTML = '';
				var prefix = '&#109;a' + 'i&#108;' + '&#116;o';
				var path = 'hr' + 'ef' + '=';
				var addyd33ae75ab1d5ad229ccdd2d6c3630b9d = 'bl&#117;&#101;m&#101;l.&#97;l&#101;x&#97;nd&#101;r' + '&#64;';
				addyd33ae75ab1d5ad229ccdd2d6c3630b9d = addyd33ae75ab1d5ad229ccdd2d6c3630b9d + '&#101;j&#97;-&#97;&#97;l&#101;n' + '&#46;' + 'd&#101;';
				var addy_textd33ae75ab1d5ad229ccdd2d6c3630b9d = 'bl&#117;&#101;m&#101;l.&#97;l&#101;x&#97;nd&#101;r' + '&#64;' + '&#101;j&#97;-&#97;&#97;l&#101;n' + '&#46;' + 'd&#101;';document.getElementById('cloakd33ae75ab1d5ad229ccdd2d6c3630b9d').innerHTML += '<a ' + path + '\'' + prefix + ':' + addyd33ae75ab1d5ad229ccdd2d6c3630b9d + '\'>'+addy_textd33ae75ab1d5ad229ccdd2d6c3630b9d+'';
		
X-EXTRAINFO:Termin in den Ferien nur nach Absprache!
DTSTAMP:20260425T022525
DTSTART:20220621T190000
DTEND:20220621T210000
SEQUENCE:0
TRANSP:OPAQUE
END:VEVENT
END:VCALENDAR