BEGIN:VCALENDAR
VERSION:2.0
PRODID:-//jEvents 2.0 for Joomla//EN
CALSCALE:GREGORIAN
METHOD:PUBLISH
BEGIN:VEVENT
UID:ef9c56f83b48ceb12e5ac8cfb9cb6f7f
CATEGORIES:Sonstiges
CREATED:20211210T114926
SUMMARY:ConnectYOUng (Jugendgruppe)
LOCATION:Ev. Gemeindehaus AA 
URL;VALUE=URI:https://eja-aalen.de/medien/kalender/icalrepeat.detail/2022/12/06/936/-/con
 nectyoung-jugendgruppe?tmpl=component
DESCRIPTION: <a href="https://eja-aalen.de/medien/kalender/icalrepeat.detail/2022/12/06
 /936/-/connectyoung-jugendgruppe?tmpl=component">Dieser Event wurde importi
 ert von: https://eja-aalen.de/medien/kalender/icalrepeat.detail/2022/12/06/
 936/-/connectyoung-jugendgruppe?tmpl=component</a>CONTACT:Diese E-Mail-Adresse ist vor Spambots geschützt! Zur Anzeige muss JavaScript eingeschaltet sein!
				document.getElementById('cloak7ce26fc72852808429128ce8fbeef14f').innerHTML = '';
				var prefix = '&#109;a' + 'i&#108;' + '&#116;o';
				var path = 'hr' + 'ef' + '=';
				var addy7ce26fc72852808429128ce8fbeef14f = 'bl&#117;&#101;m&#101;l.&#97;l&#101;x&#97;nd&#101;r' + '&#64;';
				addy7ce26fc72852808429128ce8fbeef14f = addy7ce26fc72852808429128ce8fbeef14f + '&#101;j&#97;-&#97;&#97;l&#101;n' + '&#46;' + 'd&#101;';
				var addy_text7ce26fc72852808429128ce8fbeef14f = 'bl&#117;&#101;m&#101;l.&#97;l&#101;x&#97;nd&#101;r' + '&#64;' + '&#101;j&#97;-&#97;&#97;l&#101;n' + '&#46;' + 'd&#101;';document.getElementById('cloak7ce26fc72852808429128ce8fbeef14f').innerHTML += '<a ' + path + '\'' + prefix + ':' + addy7ce26fc72852808429128ce8fbeef14f + '\'>'+addy_text7ce26fc72852808429128ce8fbeef14f+'';
		
X-EXTRAINFO:Termin in den Ferien nur nach Absprache!
DTSTAMP:20260423T123253
DTSTART:20221206T190000
DTEND:20221206T210000
SEQUENCE:0
TRANSP:OPAQUE
END:VEVENT
END:VCALENDAR