BEGIN:VCALENDAR
VERSION:2.0
PRODID:-//jEvents 2.0 for Joomla//EN
CALSCALE:GREGORIAN
METHOD:PUBLISH
BEGIN:VEVENT
UID:85ebc6e638c73c36ea60c5e5635613d7
CATEGORIES:Abwesenheit Elke
CREATED:20220715T100825
SUMMARY:Teilbesetzung eja
URL;VALUE=URI:https://eja-aalen.de/medien/kalender/icalrepeat.detail/2022/10/13/996/-/tei
 lbesetzung-eja?tmpl=component
DESCRIPTION: <a href="https://eja-aalen.de/medien/kalender/icalrepeat.detail/2022/10/13
 /996/-/teilbesetzung-eja?tmpl=component">Dieser Event wurde importiert von:
  https://eja-aalen.de/medien/kalender/icalrepeat.detail/2022/10/13/996/-/te
 ilbesetzung-eja?tmpl=component</a>DTSTAMP:20260426T013048
DTSTART;VALUE=DATE:20221013
DTEND;VALUE=DATE:20221014
SEQUENCE:0
TRANSP:OPAQUE
END:VEVENT
END:VCALENDAR